Package: magpie Version: 1.9.0 Command: /home/biocbuild/bbs-3.22-bioc/R/bin/R CMD INSTALL magpie StartedAt: 2025-10-27 15:41:43 -0400 (Mon, 27 Oct 2025) EndedAt: 2025-10-27 15:42:22 -0400 (Mon, 27 Oct 2025) EllapsedTime: 39.5 seconds RetCode: 0 Status: OK