Package: maftools Version: 2.25.10 Command: /home/biocbuild/bbs-3.22-bioc/R/bin/R CMD build --keep-empty-dirs --no-resave-data --md5 maftools StartedAt: 2025-10-27 18:25:30 -0400 (Mon, 27 Oct 2025) EndedAt: 2025-10-27 18:28:31 -0400 (Mon, 27 Oct 2025) EllapsedTime: 181.1 seconds RetCode: 0 Status: OK PackageFile: maftools_2.25.10.tar.gz PackageFileSize: 11.9 MiB