Package: maftools Version: 2.26.0 Command: /Library/Frameworks/R.framework/Resources/bin/R CMD build --keep-empty-dirs --no-resave-data maftools StartedAt: 2025-11-10 16:52:26 -0500 (Mon, 10 Nov 2025) EndedAt: 2025-11-10 16:53:47 -0500 (Mon, 10 Nov 2025) EllapsedTime: 80.9 seconds RetCode: 0 Status: OK PackageFile: maftools_2.26.0.tar.gz PackageFileSize: 12.3 MiB