Package: made4 Version: 1.83.0 Command: /home/biocbuild/bbs-3.22-bioc/R/bin/R CMD INSTALL made4 StartedAt: 2025-10-24 15:31:19 -0400 (Fri, 24 Oct 2025) EndedAt: 2025-10-24 15:31:40 -0400 (Fri, 24 Oct 2025) EllapsedTime: 21.1 seconds RetCode: 0 Status: OK