Package: made4 Version: 1.83.0 Command: /home/biocbuild/bbs-3.22-bioc/R/bin/R CMD build --keep-empty-dirs --no-resave-data --md5 made4 StartedAt: 2025-10-24 18:34:58 -0400 (Fri, 24 Oct 2025) EndedAt: 2025-10-24 18:35:36 -0400 (Fri, 24 Oct 2025) EllapsedTime: 38.0 seconds RetCode: 0 Status: OK PackageFile: made4_1.83.0.tar.gz PackageFileSize: 2.722 MiB