Package: maaslin3 Version: 1.1.2 Command: /home/biocbuild/bbs-3.22-bioc/R/bin/R CMD INSTALL maaslin3 StartedAt: 2025-10-27 15:33:31 -0400 (Mon, 27 Oct 2025) EndedAt: 2025-10-27 15:34:02 -0400 (Mon, 27 Oct 2025) EllapsedTime: 30.7 seconds RetCode: 0 Status: OK