Package: maSigPro Version: 1.81.0 Command: /home/biocbuild/bbs-3.22-bioc/R/bin/R CMD INSTALL maSigPro StartedAt: 2025-10-24 15:22:44 -0400 (Fri, 24 Oct 2025) EndedAt: 2025-10-24 15:22:48 -0400 (Fri, 24 Oct 2025) EllapsedTime: 4.0 seconds RetCode: 0 Status: OK