Package: maPredictDSC Version: 1.47.0 Command: /home/biocbuild/bbs-3.22-bioc/R/bin/R CMD INSTALL maPredictDSC StartedAt: 2025-10-24 15:36:46 -0400 (Fri, 24 Oct 2025) EndedAt: 2025-10-24 15:37:09 -0400 (Fri, 24 Oct 2025) EllapsedTime: 22.7 seconds RetCode: 0 Status: OK