Package: maPredictDSC Version: 1.47.0 Command: /home/biocbuild/bbs-3.22-bioc/R/bin/R CMD check --install=check:maPredictDSC.install-out.txt --library=/home/biocbuild/bbs-3.22-bioc/R/site-library --timings maPredictDSC_1.47.0.tar.gz StartedAt: 2025-10-25 01:07:56 -0400 (Sat, 25 Oct 2025) EndedAt: 2025-10-25 01:12:59 -0400 (Sat, 25 Oct 2025) EllapsedTime: 303.4 seconds RetCode: 0 Status: OK CheckDir: maPredictDSC.Rcheck Warnings: 0