Package: maPredictDSC Version: 1.47.0 Command: /Library/Frameworks/R.framework/Resources/bin/R CMD build --keep-empty-dirs --no-resave-data maPredictDSC StartedAt: 2025-10-24 16:54:33 -0400 (Fri, 24 Oct 2025) EndedAt: 2025-10-24 16:55:10 -0400 (Fri, 24 Oct 2025) EllapsedTime: 37.4 seconds RetCode: 0 Status: OK PackageFile: maPredictDSC_1.47.0.tar.gz PackageFileSize: 197.5 KiB