Package: maCorrPlot Version: 1.79.0 Command: /Library/Frameworks/R.framework/Resources/bin/R CMD INSTALL maCorrPlot StartedAt: 2025-10-28 15:08:23 -0400 (Tue, 28 Oct 2025) EndedAt: 2025-10-28 15:08:57 -0400 (Tue, 28 Oct 2025) EllapsedTime: 34.2 seconds RetCode: 0 Status: OK