Package: maCorrPlot Version: 1.79.0 Command: /Library/Frameworks/R.framework/Resources/bin/R CMD build --keep-empty-dirs --no-resave-data maCorrPlot StartedAt: 2025-10-28 17:33:43 -0400 (Tue, 28 Oct 2025) EndedAt: 2025-10-28 17:33:57 -0400 (Tue, 28 Oct 2025) EllapsedTime: 13.7 seconds RetCode: 0 Status: OK PackageFile: maCorrPlot_1.79.0.tar.gz PackageFileSize: 1.264 MiB