Package: maCorrPlot Version: 1.79.0 Command: /Library/Frameworks/R.framework/Resources/bin/R CMD INSTALL maCorrPlot StartedAt: 2025-10-26 15:02:22 -0400 (Sun, 26 Oct 2025) EndedAt: 2025-10-26 15:02:32 -0400 (Sun, 26 Oct 2025) EllapsedTime: 9.5 seconds RetCode: 0 Status: OK