Package: maCorrPlot Version: 1.79.0 Command: /Library/Frameworks/R.framework/Resources/bin/R CMD build --keep-empty-dirs --no-resave-data maCorrPlot StartedAt: 2025-10-26 17:02:38 -0400 (Sun, 26 Oct 2025) EndedAt: 2025-10-26 17:02:42 -0400 (Sun, 26 Oct 2025) EllapsedTime: 4.0 seconds RetCode: 0 Status: OK PackageFile: maCorrPlot_1.79.0.tar.gz PackageFileSize: 1.265 MiB