Package: mCSEA Version: 1.29.0 Command: /home/biocbuild/bbs-3.22-bioc/R/bin/R CMD INSTALL mCSEA StartedAt: 2025-10-24 16:10:00 -0400 (Fri, 24 Oct 2025) EndedAt: 2025-10-24 16:10:38 -0400 (Fri, 24 Oct 2025) EllapsedTime: 37.5 seconds RetCode: 0 Status: OK