Package: mCSEA Version: 1.29.0 Command: /home/biocbuild/bbs-3.22-bioc/R/bin/R CMD build --keep-empty-dirs --no-resave-data --md5 mCSEA StartedAt: 2025-10-24 18:40:20 -0400 (Fri, 24 Oct 2025) EndedAt: 2025-10-24 18:42:47 -0400 (Fri, 24 Oct 2025) EllapsedTime: 147.2 seconds RetCode: 1 Status: ERROR PackageFile: None PackageFileSize: NA