Package: mBPCR Version: 1.63.0 Command: /Library/Frameworks/R.framework/Resources/bin/R CMD INSTALL mBPCR StartedAt: 2025-10-24 15:15:55 -0400 (Fri, 24 Oct 2025) EndedAt: 2025-10-24 15:16:08 -0400 (Fri, 24 Oct 2025) EllapsedTime: 12.7 seconds RetCode: 0 Status: OK