Package: mBPCR Version: 1.63.0 Command: /Library/Frameworks/R.framework/Resources/bin/R CMD build --keep-empty-dirs --no-resave-data mBPCR StartedAt: 2025-10-24 16:56:17 -0400 (Fri, 24 Oct 2025) EndedAt: 2025-10-24 16:56:43 -0400 (Fri, 24 Oct 2025) EllapsedTime: 26.3 seconds RetCode: 0 Status: OK PackageFile: mBPCR_1.63.0.tar.gz PackageFileSize: 835.8 KiB