Package: mBPCR Version: 1.63.0 Command: rm -rf mBPCR.buildbin-libdir && mkdir mBPCR.buildbin-libdir && /Users/biocbuild/BBS/utils/build-universal.sh mBPCR_1.63.0.tar.gz /Library/Frameworks/R.framework/Resources/bin/R mBPCR.buildbin-libdir StartedAt: 2025-10-24 23:08:34 -0400 (Fri, 24 Oct 2025) EndedAt: 2025-10-24 23:08:49 -0400 (Fri, 24 Oct 2025) EllapsedTime: 14.3 seconds RetCode: 0 Status: OK PackageFile: mBPCR_1.63.0.tgz PackageFileSize: 916.1 KiB