Package: m6Aboost Version: 1.16.0 Command: /home/biocbuild/R/R/bin/R CMD INSTALL m6Aboost StartedAt: 2025-11-13 22:04:42 -0000 (Thu, 13 Nov 2025) EndedAt: 2025-11-13 22:05:41 -0000 (Thu, 13 Nov 2025) EllapsedTime: 58.9 seconds RetCode: 0 Status: OK