Package: m6Aboost Version: 1.15.1 Command: /home/biocbuild/bbs-3.22-bioc/R/bin/R CMD check --install=check:m6Aboost.install-out.txt --library=/home/biocbuild/bbs-3.22-bioc/R/site-library --timings m6Aboost_1.15.1.tar.gz StartedAt: 2025-10-25 01:05:35 -0400 (Sat, 25 Oct 2025) EndedAt: 2025-10-25 01:11:25 -0400 (Sat, 25 Oct 2025) EllapsedTime: 349.6 seconds RetCode: 0 Status: OK CheckDir: m6Aboost.Rcheck Warnings: 0