Package: m6Aboost Version: 1.15.1 Command: /Library/Frameworks/R.framework/Resources/bin/R CMD INSTALL m6Aboost StartedAt: 2025-10-24 15:57:07 -0400 (Fri, 24 Oct 2025) EndedAt: 2025-10-24 15:58:07 -0400 (Fri, 24 Oct 2025) EllapsedTime: 59.8 seconds RetCode: 0 Status: OK