Package: m6Aboost Version: 1.15.1 Command: /Library/Frameworks/R.framework/Resources/bin/R CMD build --keep-empty-dirs --no-resave-data m6Aboost StartedAt: 2025-10-27 17:29:20 -0400 (Mon, 27 Oct 2025) EndedAt: 2025-10-27 17:30:48 -0400 (Mon, 27 Oct 2025) EllapsedTime: 88.7 seconds RetCode: 0 Status: OK PackageFile: m6Aboost_1.15.1.tar.gz PackageFileSize: 759.5 KiB