Package: m6Aboost Version: 1.15.1 Command: rm -rf m6Aboost.buildbin-libdir && mkdir m6Aboost.buildbin-libdir && /Users/biocbuild/BBS/utils/build-universal.sh m6Aboost_1.15.1.tar.gz /Library/Frameworks/R.framework/Resources/bin/R m6Aboost.buildbin-libdir StartedAt: 2025-10-24 23:08:07 -0400 (Fri, 24 Oct 2025) EndedAt: 2025-10-24 23:08:26 -0400 (Fri, 24 Oct 2025) EllapsedTime: 19.4 seconds RetCode: 0 Status: OK PackageFile: m6Aboost_1.15.1.tgz PackageFileSize: 574.9 KiB