Package: lute Version: 1.5.1 Command: /home/biocbuild/bbs-3.22-bioc/R/bin/R CMD INSTALL lute StartedAt: 2025-10-24 16:05:39 -0400 (Fri, 24 Oct 2025) EndedAt: 2025-10-24 16:06:09 -0400 (Fri, 24 Oct 2025) EllapsedTime: 29.9 seconds RetCode: 0 Status: OK