Package: lpsymphony Version: 1.38.0 Command: /home/biocbuild/bbs-3.22-bioc/R/bin/R CMD INSTALL lpsymphony StartedAt: 2025-11-06 15:01:23 -0500 (Thu, 06 Nov 2025) EndedAt: 2025-11-06 15:08:45 -0500 (Thu, 06 Nov 2025) EllapsedTime: 442.1 seconds RetCode: 0 Status: OK