Package: lpsymphony Version: 1.38.0 Command: /home/biocbuild/bbs-3.22-bioc/R/bin/R CMD build --keep-empty-dirs --no-resave-data --md5 lpsymphony StartedAt: 2025-11-06 18:23:59 -0500 (Thu, 06 Nov 2025) EndedAt: 2025-11-06 18:31:52 -0500 (Thu, 06 Nov 2025) EllapsedTime: 473.4 seconds RetCode: 0 Status: OK PackageFile: lpsymphony_1.38.0.tar.gz PackageFileSize: 11.89 MiB