Package: lpNet Version: 2.42.0 Command: /Library/Frameworks/R.framework/Resources/bin/R CMD INSTALL lpNet StartedAt: 2025-11-03 15:32:20 -0500 (Mon, 03 Nov 2025) EndedAt: 2025-11-03 15:32:30 -0500 (Mon, 03 Nov 2025) EllapsedTime: 9.5 seconds RetCode: 0 Status: OK