Package: lpNet Version: 2.42.0 Command: /Library/Frameworks/R.framework/Resources/bin/R CMD build --keep-empty-dirs --no-resave-data lpNet StartedAt: 2025-11-03 17:34:35 -0500 (Mon, 03 Nov 2025) EndedAt: 2025-11-03 17:35:18 -0500 (Mon, 03 Nov 2025) EllapsedTime: 42.4 seconds RetCode: 0 Status: OK PackageFile: lpNet_2.42.0.tar.gz PackageFileSize: 307.9 KiB