Package: lpNet Version: 2.41.0 Command: /Library/Frameworks/R.framework/Resources/bin/R CMD INSTALL lpNet StartedAt: 2025-10-24 15:11:23 -0400 (Fri, 24 Oct 2025) EndedAt: 2025-10-24 15:11:26 -0400 (Fri, 24 Oct 2025) EllapsedTime: 2.6 seconds RetCode: 0 Status: OK