Package: lpNet Version: 2.41.0 Command: rm -rf lpNet.buildbin-libdir && mkdir lpNet.buildbin-libdir && /Users/biocbuild/BBS/utils/build-universal.sh lpNet_2.41.0.tar.gz /Library/Frameworks/R.framework/Resources/bin/R lpNet.buildbin-libdir StartedAt: 2025-10-24 23:08:03 -0400 (Fri, 24 Oct 2025) EndedAt: 2025-10-24 23:08:07 -0400 (Fri, 24 Oct 2025) EllapsedTime: 3.1 seconds RetCode: 0 Status: OK PackageFile: lpNet_2.41.0.tgz PackageFileSize: 406 KiB