Package: looking4clusters Version: 1.0.0 Command: /Library/Frameworks/R.framework/Resources/bin/R CMD INSTALL looking4clusters StartedAt: 2025-11-02 15:34:15 -0500 (Sun, 02 Nov 2025) EndedAt: 2025-11-02 15:34:19 -0500 (Sun, 02 Nov 2025) EllapsedTime: 3.3 seconds RetCode: 0 Status: OK