Package: looking4clusters Version: 0.99.4 Command: /Library/Frameworks/R.framework/Resources/bin/R CMD INSTALL looking4clusters StartedAt: 2025-10-24 15:18:10 -0400 (Fri, 24 Oct 2025) EndedAt: 2025-10-24 15:18:11 -0400 (Fri, 24 Oct 2025) EllapsedTime: 1.3 seconds RetCode: 0 Status: OK