Package: logicFS Version: 2.29.0 Command: /home/biocbuild/bbs-3.22-bioc/R/bin/R CMD check --install=check:logicFS.install-out.txt --library=/home/biocbuild/bbs-3.22-bioc/R/site-library --timings logicFS_2.29.0.tar.gz StartedAt: 2025-10-25 01:03:47 -0400 (Sat, 25 Oct 2025) EndedAt: 2025-10-25 01:04:44 -0400 (Sat, 25 Oct 2025) EllapsedTime: 57.0 seconds RetCode: 0 Status: OK CheckDir: logicFS.Rcheck Warnings: 0