Package: logicFS Version: 2.29.0 Command: /Library/Frameworks/R.framework/Resources/bin/R CMD build --keep-empty-dirs --no-resave-data logicFS StartedAt: 2025-10-24 17:37:18 -0400 (Fri, 24 Oct 2025) EndedAt: 2025-10-24 17:37:38 -0400 (Fri, 24 Oct 2025) EllapsedTime: 19.4 seconds RetCode: 0 Status: OK PackageFile: logicFS_2.29.0.tar.gz PackageFileSize: 259.6 KiB