Package: logicFS Version: 2.29.0 Command: rm -rf logicFS.buildbin-libdir && mkdir logicFS.buildbin-libdir && /Users/biocbuild/BBS/utils/build-universal.sh logicFS_2.29.0.tar.gz /Library/Frameworks/R.framework/Resources/bin/R logicFS.buildbin-libdir StartedAt: 2025-10-25 01:47:20 -0400 (Sat, 25 Oct 2025) EndedAt: 2025-10-25 01:47:35 -0400 (Sat, 25 Oct 2025) EllapsedTime: 15.0 seconds RetCode: 0 Status: OK PackageFile: logicFS_2.29.0.tgz PackageFileSize: 617.2 KiB