Package: logicFS Version: 2.29.0 Command: rm -rf logicFS.buildbin-libdir && mkdir logicFS.buildbin-libdir && /Users/biocbuild/BBS/utils/build-universal.sh logicFS_2.29.0.tar.gz /Library/Frameworks/R.framework/Resources/bin/R logicFS.buildbin-libdir StartedAt: 2025-10-24 23:08:01 -0400 (Fri, 24 Oct 2025) EndedAt: 2025-10-24 23:08:06 -0400 (Fri, 24 Oct 2025) EllapsedTime: 4.1 seconds RetCode: 0 Status: OK PackageFile: logicFS_2.29.0.tgz PackageFileSize: 618.5 KiB