Package: loci2path Version: 1.29.1 Command: /home/biocbuild/bbs-3.22-bioc/R/bin/R CMD INSTALL loci2path StartedAt: 2025-10-24 15:25:43 -0400 (Fri, 24 Oct 2025) EndedAt: 2025-10-24 15:25:54 -0400 (Fri, 24 Oct 2025) EllapsedTime: 11.4 seconds RetCode: 0 Status: OK