Package: lmdme Version: 1.52.0 Command: rm -rf lmdme.buildbin-libdir && mkdir lmdme.buildbin-libdir && /Users/biocbuild/BBS/utils/build-universal.sh lmdme_1.52.0.tar.gz /Library/Frameworks/R.framework/Resources/bin/R lmdme.buildbin-libdir StartedAt: 2025-11-04 01:47:22 -0500 (Tue, 04 Nov 2025) EndedAt: 2025-11-04 01:47:30 -0500 (Tue, 04 Nov 2025) EllapsedTime: 8.2 seconds RetCode: 0 Status: OK PackageFile: lmdme_1.52.0.tgz PackageFileSize: 729.1 KiB