Package: lmdme Version: 1.51.0 Command: /Library/Frameworks/R.framework/Resources/bin/R CMD INSTALL lmdme StartedAt: 2025-10-24 15:08:46 -0400 (Fri, 24 Oct 2025) EndedAt: 2025-10-24 15:08:51 -0400 (Fri, 24 Oct 2025) EllapsedTime: 4.9 seconds RetCode: 0 Status: OK