Package: lmdme Version: 1.51.0 Command: /Library/Frameworks/R.framework/Resources/bin/R CMD build --keep-empty-dirs --no-resave-data lmdme StartedAt: 2025-10-24 16:53:11 -0400 (Fri, 24 Oct 2025) EndedAt: 2025-10-24 16:53:18 -0400 (Fri, 24 Oct 2025) EllapsedTime: 7.1 seconds RetCode: 0 Status: OK PackageFile: lmdme_1.51.0.tar.gz PackageFileSize: 608.9 KiB