Package: lmdme Version: 1.51.0 Command: rm -rf lmdme.buildbin-libdir && mkdir lmdme.buildbin-libdir && /Users/biocbuild/BBS/utils/build-universal.sh lmdme_1.51.0.tar.gz /Library/Frameworks/R.framework/Resources/bin/R lmdme.buildbin-libdir StartedAt: 2025-10-24 23:07:58 -0400 (Fri, 24 Oct 2025) EndedAt: 2025-10-24 23:08:00 -0400 (Fri, 24 Oct 2025) EllapsedTime: 2.0 seconds RetCode: 0 Status: OK PackageFile: lmdme_1.51.0.tgz PackageFileSize: 732.4 KiB