Package: lisaClust Version: 1.18.0 Command: /Library/Frameworks/R.framework/Resources/bin/R CMD INSTALL lisaClust StartedAt: 2025-11-10 15:19:19 -0500 (Mon, 10 Nov 2025) EndedAt: 2025-11-10 15:19:30 -0500 (Mon, 10 Nov 2025) EllapsedTime: 11.3 seconds RetCode: 0 Status: OK