Package: lipidr Version: 2.23.0 Command: /home/biocbuild/bbs-3.22-bioc/R/bin/R CMD INSTALL lipidr StartedAt: 2025-10-24 15:49:15 -0400 (Fri, 24 Oct 2025) EndedAt: 2025-10-24 15:49:44 -0400 (Fri, 24 Oct 2025) EllapsedTime: 28.6 seconds RetCode: 0 Status: OK