Package: lipidr Version: 2.23.0 Command: /home/biocbuild/bbs-3.22-bioc/R/bin/R CMD build --keep-empty-dirs --no-resave-data --md5 lipidr StartedAt: 2025-10-24 18:32:54 -0400 (Fri, 24 Oct 2025) EndedAt: 2025-10-24 18:33:48 -0400 (Fri, 24 Oct 2025) EllapsedTime: 54.1 seconds RetCode: 0 Status: OK PackageFile: lipidr_2.23.0.tar.gz PackageFileSize: 3.346 MiB