Package: linkSet Version: 0.99.19 Command: /home/biocbuild/bbs-3.22-bioc/R/bin/R CMD check --install=check:linkSet.install-out.txt --library=/home/biocbuild/bbs-3.22-bioc/R/site-library --timings linkSet_0.99.19.tar.gz StartedAt: 2025-10-28 00:59:00 -0400 (Tue, 28 Oct 2025) EndedAt: 2025-10-28 01:04:54 -0400 (Tue, 28 Oct 2025) EllapsedTime: 354.6 seconds RetCode: 0 Status: WARNINGS CheckDir: linkSet.Rcheck Warnings: 1