Package: linkSet Version: 0.99.19 Command: /Library/Frameworks/R.framework/Resources/bin/R CMD INSTALL linkSet StartedAt: 2025-10-27 15:36:06 -0400 (Mon, 27 Oct 2025) EndedAt: 2025-10-27 15:37:06 -0400 (Mon, 27 Oct 2025) EllapsedTime: 60.8 seconds RetCode: 0 Status: OK