Package: linkSet Version: 0.99.19 Command: /Library/Frameworks/R.framework/Resources/bin/R CMD INSTALL linkSet StartedAt: 2025-10-24 15:24:58 -0400 (Fri, 24 Oct 2025) EndedAt: 2025-10-24 15:25:16 -0400 (Fri, 24 Oct 2025) EllapsedTime: 17.8 seconds RetCode: 0 Status: OK