Package: linkSet Version: 0.99.19 Command: /Library/Frameworks/R.framework/Resources/bin/R CMD build --keep-empty-dirs --no-resave-data linkSet StartedAt: 2025-10-24 16:52:45 -0400 (Fri, 24 Oct 2025) EndedAt: 2025-10-24 16:53:14 -0400 (Fri, 24 Oct 2025) EllapsedTime: 28.3 seconds RetCode: 1 Status: ERROR PackageFile: None PackageFileSize: NA