Package: limpca Version: 1.6.0 Command: /home/biocbuild/bbs-3.22-bioc/R/bin/R CMD INSTALL limpca StartedAt: 2025-11-06 15:22:55 -0500 (Thu, 06 Nov 2025) EndedAt: 2025-11-06 15:23:20 -0500 (Thu, 06 Nov 2025) EllapsedTime: 24.9 seconds RetCode: 0 Status: OK